BEGIN:VCALENDAR
VERSION:2.0
CALSCALE:GREGORIAN
PRODID:-//Diputació de Barcelona//DibaCMS//EN
BEGIN:VEVENT
UID:15510
DTSTAMP:20260420T100612
DTSTART:20260313T180000
DTEND:20260313T190000
SUMMARY:ImaginaMons - març 2026
LOCATION:Pau Casals, 41 08459 Sant Antoni de Vilamajor
METHOD:PUBLISH
X-WR-CALNAME:ajuntament@savilamajor.cat
X-WR-TIMEZONE:Europe/Madrid
DESCRIPTION:Club de lectura infantil per a infants de 2n i 3r de primària.

URI:https://www.santantonidevilamajor.cat/actualitat/agenda/imaginamons-marc-2026.html
CLASS:PUBLIC
END:VEVENT
END:VCALENDAR
