BEGIN:VCALENDAR
VERSION:2.0
CALSCALE:GREGORIAN
PRODID:-//Diputació de Barcelona//DibaCMS//EN
BEGIN:VEVENT
UID:15509
DTSTAMP:20260420T100748
DTSTART:20260328T170000
DTEND:20260328T193000
SUMMARY:Cinema familiar - "El secret del llibre de Kells"
LOCATION:Pau Casals, 41 08459 Sant Antoni de Vilamajor
METHOD:PUBLISH
X-WR-CALNAME:ajuntament@savilamajor.cat
X-WR-TIMEZONE:Europe/Madrid
DESCRIPTION:El secret del llibre de Kells de Tomm Moore i Nora Twomey. Cinema familiar recomanat per a tots els públics.

URI:https://www.santantonidevilamajor.cat/actualitat/agenda/cinema-familiar-el-secret-del-llibre-de-kells.html
CLASS:PUBLIC
END:VEVENT
END:VCALENDAR
