BEGIN:VCALENDAR
VERSION:2.0
CALSCALE:GREGORIAN
PRODID:-//Diputació de Barcelona//DibaCMS//EN
BEGIN:VEVENT
UID:15507
DTSTAMP:20260422T102526
DTSTART:20260327T180000
DTEND:20260327T190000
SUMMARY:Crunchy words - Candy Pink
LOCATION:Pau Casals, 41 08459 Sant Antoni de Vilamajor
METHOD:PUBLISH
X-WR-CALNAME:ajuntament@savilamajor.cat
X-WR-TIMEZONE:Europe/Madrid
DESCRIPTION:Contacontes en anglès per a famílies amb infants a partir de 5 anys.

URI:https://www.santantonidevilamajor.cat/actualitat/agenda/crunchy-words-candy-pink.html
CLASS:PUBLIC
END:VEVENT
END:VCALENDAR
