BEGIN:VCALENDAR
VERSION:2.0
CALSCALE:GREGORIAN
PRODID:-//Diputació de Barcelona//DibaCMS//EN
BEGIN:VEVENT
UID:15504
DTSTAMP:20260421T121513
DTSTART:20260321T113000
DTEND:20260321T130000
SUMMARY:Cos. Presència i amor propi
LOCATION:Pau Casals, 41 08459 Sant Antoni de Vilamajor
METHOD:PUBLISH
X-WR-CALNAME:ajuntament@savilamajor.cat
X-WR-TIMEZONE:Europe/Madrid
DESCRIPTION:Taller per a dones a partir de setze anys.

#MesLilaVilamajor2026

Cal inscripció prèvia.

URI:https://www.santantonidevilamajor.cat/actualitat/agenda/cos-presencia-i-amor-propi.html
CLASS:PUBLIC
END:VEVENT
END:VCALENDAR
