BEGIN:VCALENDAR
VERSION:2.0
CALSCALE:GREGORIAN
PRODID:-//Diputació de Barcelona//DibaCMS//EN
BEGIN:VEVENT
UID:15501
DTSTAMP:20260422T114427
DTSTART:20260316T153000
DTEND:20260410T200000
SUMMARY:Exposició: Neus Català. Memòria i lluita.
LOCATION:Pau Casals, 41 08459 Sant Antoni de Vilamajor
METHOD:PUBLISH
X-WR-CALNAME:ajuntament@savilamajor.cat
X-WR-TIMEZONE:Europe/Madrid
DESCRIPTION:Exposició visitable dins de l'horari d'obertura de la biblioteca.

#MesLilaVilamajor2026

URI:https://www.santantonidevilamajor.cat/actualitat/agenda/exposicio-neus-catala-memoria-i-lluita.html
CLASS:PUBLIC
END:VEVENT
END:VCALENDAR
