BEGIN:VCALENDAR
VERSION:2.0
CALSCALE:GREGORIAN
PRODID:-//Diputació de Barcelona//DibaCMS//EN
BEGIN:VEVENT
UID:15500
DTSTAMP:20260420T100122
DTSTART:20260313T170000
DTEND:20260313T180000
SUMMARY:Contes liles
LOCATION:Pau Casals, 41 08459 Sant Antoni de Vilamajor
METHOD:PUBLISH
X-WR-CALNAME:ajuntament@savilamajor.cat
X-WR-TIMEZONE:Europe/Madrid
DESCRIPTION:Contacontes per a famílies amb infants a partir de 3 anys.

#MesLilaVilamajor26

URI:https://www.santantonidevilamajor.cat/actualitat/agenda/contes-liles.html
CLASS:PUBLIC
END:VEVENT
END:VCALENDAR
