BEGIN:VCALENDAR
VERSION:2.0
CALSCALE:GREGORIAN
PRODID:-//Diputació de Barcelona//DibaCMS//EN
BEGIN:VEVENT
UID:15497
DTSTAMP:20260420T095653
DTSTART:20260309T190000
DTEND:20260309T200000
SUMMARY:Contra la història única - "Aigua dolça"
LOCATION:Pau Casals, 41 08459 Sant Antoni de Vilamajor
METHOD:PUBLISH
X-WR-CALNAME:ajuntament@savilamajor.cat
X-WR-TIMEZONE:Europe/Madrid
DESCRIPTION:Al club de lectura feminista d'aquest mes comentarem la novel·la Aigua dolça d'Akwaeke Emezi

Dins de la programació del #MesLilaVilamajor26.

URI:https://www.santantonidevilamajor.cat/actualitat/agenda/contra-la-historia-unica-aigua-dolca.html
CLASS:PUBLIC
END:VEVENT
END:VCALENDAR
