BEGIN:VCALENDAR
VERSION:2.0
CALSCALE:GREGORIAN
PRODID:-//Diputació de Barcelona//DibaCMS//EN
BEGIN:VEVENT
UID:15430
DTSTAMP:20260426T030743
DTSTART:20260124T170000
DTEND:20260124T183000
SUMMARY:Cinema familiar - "El meu veí Totoro"
LOCATION:Pau Casals, 41 08459 Sant Antoni de Vilamajor
METHOD:PUBLISH
X-WR-CALNAME:ajuntament@savilamajor.cat
X-WR-TIMEZONE:Europe/Madrid
DESCRIPTION:El veu veí Totoro de Hayao Miyazaki. Cinema familiar recomanat per a tots els públics.

URI:https://www.santantonidevilamajor.cat/actualitat/agenda/cinema-familiar-el-meu-vei-totoro.html
CLASS:PUBLIC
END:VEVENT
END:VCALENDAR
