BEGIN:VCALENDAR
VERSION:2.0
CALSCALE:GREGORIAN
PRODID:-//Diputació de Barcelona//DibaCMS//EN
BEGIN:VEVENT
UID:15429
DTSTAMP:20260426T043154
DTSTART:20260123T180000
DTEND:20260123T190000
SUMMARY:Un bol de contes - gener 2026
LOCATION:Pau Casals, 41 08459 Sant Antoni de Vilamajor
METHOD:PUBLISH
X-WR-CALNAME:ajuntament@savilamajor.cat
X-WR-TIMEZONE:Europe/Madrid
DESCRIPTION:Contacontes per a famílies amb infants a partir de 3 anys.

URI:https://www.santantonidevilamajor.cat/actualitat/agenda/un-bol-de-contes-gener-2026.html
CLASS:PUBLIC
END:VEVENT
END:VCALENDAR
