BEGIN:VCALENDAR
VERSION:2.0
CALSCALE:GREGORIAN
PRODID:-//Diputació de Barcelona//DibaCMS//EN
BEGIN:VEVENT
UID:15317
DTSTAMP:20260422T103451
DTSTART:20250924T153000
DTEND:20251030T200000
SUMMARY:Exposició - "Naturalistes"
LOCATION:Pau Casals, 41 08459 Sant Antoni de Vilamajor
METHOD:PUBLISH
X-WR-CALNAME:ajuntament@savilamajor.cat
X-WR-TIMEZONE:Europe/Madrid
DESCRIPTION:Per a famílies amb infants a partir de cinc anys. A la sala Maria Carme Roca de la biblioteca. Visitable dins de l'horari d'obertura de l'equipament.

URI:https://www.santantonidevilamajor.cat/actualitat/agenda/exposicio-naturalistes.html
CLASS:PUBLIC
END:VEVENT
END:VCALENDAR
