BEGIN:VCALENDAR
VERSION:2.0
CALSCALE:GREGORIAN
PRODID:-//Diputació de Barcelona//DibaCMS//EN
BEGIN:VEVENT
UID:15282
DTSTAMP:20260420T100640
DTSTART:20251024T180000
DTEND:20251024T190000
SUMMARY:Crunchy words - octubre 2025
LOCATION:Pau Casals, 41 08459 Sant Antoni de Vilamajor
METHOD:PUBLISH
X-WR-CALNAME:ajuntament@savilamajor.cat
X-WR-TIMEZONE:Europe/Madrid
DESCRIPTION:Contacontes en anglès per a famílies amb infants a partir de 5 anys.

URI:https://www.santantonidevilamajor.cat/actualitat/agenda/crunchy-words-octubre-2025.html
CLASS:PUBLIC
END:VEVENT
END:VCALENDAR
