BEGIN:VCALENDAR
VERSION:2.0
CALSCALE:GREGORIAN
PRODID:-//Diputació de Barcelona//DibaCMS//EN
BEGIN:VEVENT
UID:15280
DTSTAMP:20260420T095602
DTSTART:20251018T170000
DTEND:20251018T183000
SUMMARY:Cinema familiar - "Flow, un món per salvar"
LOCATION:Avinguda Alfons I, 28 08459 Sant Antoni de Vilamajor
METHOD:PUBLISH
X-WR-CALNAME:ajuntament@savilamajor.cat
X-WR-TIMEZONE:Europe/Madrid
DESCRIPTION:Flow, un món per salvar de Gints Zilbalodis. Cinema familiar recomanat per a tots els públics.

URI:https://www.santantonidevilamajor.cat/actualitat/agenda/cinema-familiar-flow-un-mon-per-salvar.html
CLASS:PUBLIC
END:VEVENT
END:VCALENDAR
