BEGIN:VCALENDAR
VERSION:2.0
CALSCALE:GREGORIAN
PRODID:-//Diputació de Barcelona//DibaCMS//EN
BEGIN:VEVENT
UID:15278
DTSTAMP:20260422T103137
DTSTART:20251017T180000
DTEND:20251017T190000
SUMMARY:ImaginaMons
LOCATION:Pau Casals, 41 08459 Sant Antoni de Vilamajor
METHOD:PUBLISH
X-WR-CALNAME:ajuntament@savilamajor.cat
X-WR-TIMEZONE:Europe/Madrid
DESCRIPTION:Club de lectura infantil per a infants de 2n i 3r de primària.

URI:https://www.santantonidevilamajor.cat/actualitat/agenda/imaginamons.html
CLASS:PUBLIC
END:VEVENT
END:VCALENDAR
