BEGIN:VCALENDAR
VERSION:2.0
CALSCALE:GREGORIAN
PRODID:-//Diputació de Barcelona//DibaCMS//EN
BEGIN:VEVENT
UID:15276
DTSTAMP:20260422T103354
DTSTART:20251013T190000
DTEND:20251013T200000
SUMMARY:Contra la història única - "La vida en miniatura"
LOCATION:Pau Casals, 41 08459 Sant Antoni de Vilamajor
METHOD:PUBLISH
X-WR-CALNAME:ajuntament@savilamajor.cat
X-WR-TIMEZONE:Europe/Madrid
DESCRIPTION:Aquest mes parlarem de La vida en miniatura de Mariana Sández

Trobada del club de lectura feminista de la biblioteca conduïda per Marina Martori.

URI:https://www.santantonidevilamajor.cat/actualitat/agenda/contra-la-historia-unica-la-vida-en-miniatura.html
CLASS:PUBLIC
END:VEVENT
END:VCALENDAR
