BEGIN:VCALENDAR
VERSION:2.0
CALSCALE:GREGORIAN
PRODID:-//Diputació de Barcelona//DibaCMS//EN
BEGIN:VEVENT
UID:15270
DTSTAMP:20260424T102233
DTSTART:20251001T110000
DTEND:20251001T123000
SUMMARY:Salut en moviment
LOCATION:Pau Casals, 41 08459 Sant Antoni de Vilamajor
METHOD:PUBLISH
X-WR-CALNAME:ajuntament@savilamajor.cat
X-WR-TIMEZONE:Europe/Madrid
DESCRIPTION:Activitat per a persones majors de 65 anys. Cal reserva prèvia.

URI:https://www.santantonidevilamajor.cat/actualitat/agenda/salut-en-moviment.html
CLASS:PUBLIC
END:VEVENT
END:VCALENDAR
