BEGIN:VCALENDAR
VERSION:2.0
CALSCALE:GREGORIAN
PRODID:-//Diputació de Barcelona//DibaCMS//EN
BEGIN:VEVENT
UID:11748
DTSTAMP:20260422T103059
DTSTART:20200902T100000
DTEND:20200902T120000
SUMMARY:FC - Reunió Pla Local de Seguretat
LOCATION:
METHOD:PUBLISH
X-WR-CALNAME:ajuntament@savilamajor.cat
X-WR-TIMEZONE:Europe/Madrid
DESCRIPTION:
URI:https://www.santantonidevilamajor.cat//continguts//fc-reunio-pla-local-de-seguretat.html
CLASS:PUBLIC
END:VEVENT
END:VCALENDAR
