BEGIN:VCALENDAR
VERSION:2.0
CALSCALE:GREGORIAN
PRODID:-//Diputació de Barcelona//DibaCMS//EN
BEGIN:VEVENT
UID:11747
DTSTAMP:20260420T100500
DTSTART:20200902T190000
DTEND:20200902T203000
SUMMARY:JS - Reunió Ràdio Vilamajor
LOCATION:
METHOD:PUBLISH
X-WR-CALNAME:ajuntament@savilamajor.cat
X-WR-TIMEZONE:Europe/Madrid
DESCRIPTION:
URI:https://www.santantonidevilamajor.cat//continguts//js-reunio-radio-vilamajor.html
CLASS:PUBLIC
END:VEVENT
END:VCALENDAR
