BEGIN:VCALENDAR
VERSION:2.0
CALSCALE:GREGORIAN
PRODID:-//Diputació de Barcelona//DibaCMS//EN
BEGIN:VEVENT
UID:11740
DTSTAMP:20260422T103610
DTSTART:20200910T110000
DTEND:20200910T120000
SUMMARY:JV – Reunió Cap Policia 
LOCATION:
METHOD:PUBLISH
X-WR-CALNAME:ajuntament@savilamajor.cat
X-WR-TIMEZONE:Europe/Madrid
DESCRIPTION:
URI:https://www.santantonidevilamajor.cat//continguts//jv--reunio-cap-policia-.html
CLASS:PUBLIC
END:VEVENT
END:VCALENDAR
