BEGIN:VCALENDAR
VERSION:2.0
CALSCALE:GREGORIAN
PRODID:-//Diputació de Barcelona//DibaCMS//EN
BEGIN:VEVENT
UID:11728
DTSTAMP:20260421T104840
DTSTART:20200924T190000
DTEND:20200924T220000
SUMMARY:Ple Municipal 
LOCATION:
METHOD:PUBLISH
X-WR-CALNAME:ajuntament@savilamajor.cat
X-WR-TIMEZONE:Europe/Madrid
DESCRIPTION:
URI:https://www.santantonidevilamajor.cat//continguts//ple-municipal-.html
CLASS:PUBLIC
END:VEVENT
END:VCALENDAR
